BEGIN:VCALENDAR
VERSION:2.0
PRODID:-//東京労音 - ECPv6.15.20//NONSGML v1.0//EN
CALSCALE:GREGORIAN
METHOD:PUBLISH
X-ORIGINAL-URL:https://ro-on.tokyo
X-WR-CALDESC:東京労音 のイベント
REFRESH-INTERVAL;VALUE=DURATION:PT1H
X-Robots-Tag:noindex
X-PUBLISHED-TTL:PT1H
BEGIN:VTIMEZONE
TZID:Asia/Tokyo
BEGIN:STANDARD
TZOFFSETFROM:+0900
TZOFFSETTO:+0900
TZNAME:JST
DTSTART:20250101T000000
END:STANDARD
END:VTIMEZONE
BEGIN:VEVENT
DTSTART;TZID=Asia/Tokyo:20260730T140000
DTEND;TZID=Asia/Tokyo:20260730T140000
DTSTAMP:20260421T054512
CREATED:20260227T071838Z
LAST-MODIFIED:20260306T064523Z
UID:10000674-1785420000-1785420000@ro-on.tokyo
SUMMARY:ウクライナ国立バレエ「親子で楽しむ夏休みバレエまつり2026」
DESCRIPTION:7/30(土) 14:00 開演（13:30 開場）パルテノン多摩　大ホール料金（税込）全席指定 ： 一般 7\,500円 / こども(小学生以下) 4\,500円 \n\n\n\n※3歳以下のお子様のご入場はご遠慮ください。※開演時間を過ぎますとご入場をお待ちいただく場合がございます。
URL:https://ro-on.tokyo/event/%e3%82%a6%e3%82%af%e3%83%a9%e3%82%a4%e3%83%8a%e5%9b%bd%e7%ab%8b%e3%83%90%e3%83%ac%e3%82%a8%e3%80%8c%e8%a6%aa%e5%ad%90%e3%81%a7%e6%a5%bd%e3%81%97%e3%82%80%e5%a4%8f%e4%bc%91%e3%81%bf%e3%83%90%e3%83%ac/
LOCATION:パルテノン多摩\, 多摩市落合2丁目35\, 206-0033\, 日本
ATTACH;FMTTYPE=image/jpeg:https://ro-on.tokyo/wp-content/uploads/ddb18739ffceecf59ac95358a0bada65.jpg
END:VEVENT
END:VCALENDAR