BEGIN:VCALENDAR
VERSION:2.0
PRODID:-//東京労音 - ECPv6.15.20//NONSGML v1.0//EN
CALSCALE:GREGORIAN
METHOD:PUBLISH
X-ORIGINAL-URL:https://ro-on.tokyo
X-WR-CALDESC:東京労音 のイベント
REFRESH-INTERVAL;VALUE=DURATION:PT1H
X-Robots-Tag:noindex
X-PUBLISHED-TTL:PT1H
BEGIN:VTIMEZONE
TZID:Asia/Tokyo
BEGIN:STANDARD
TZOFFSETFROM:+0900
TZOFFSETTO:+0900
TZNAME:JST
DTSTART:20250101T000000
END:STANDARD
END:VTIMEZONE
BEGIN:VEVENT
DTSTART;TZID=Asia/Tokyo:20260531T113000
DTEND;TZID=Asia/Tokyo:20260531T150000
DTSTAMP:20260421T041424
CREATED:20260217T020417Z
LAST-MODIFIED:20260217T020417Z
UID:10000655-1780227000-1780239600@ro-on.tokyo
SUMMARY:社会風刺コント集団 ザ･ニュースペーパーLIVE 2026
DESCRIPTION:5/31(日) 11:30 開演 / 15:00開演（各回30分前 開場）なかのZERO　小ホール料金（税込）全席指定 ： 5\,800円 \n\n\n\n※未就学児の入場はご遠慮願います。※小中学生割引あり（1\,000円）ご希望の方はRo-Onチケット（TEL047-365-9960）までお電話でお問合せください。
URL:https://ro-on.tokyo/event/%e7%a4%be%e4%bc%9a%e9%a2%a8%e5%88%ba%e3%82%b3%e3%83%b3%e3%83%88%e9%9b%86%e5%9b%a3-%e3%82%b6%ef%bd%a5%e3%83%8b%e3%83%a5%e3%83%bc%e3%82%b9%e3%83%9a%e3%83%bc%e3%83%91%e3%83%bclive-2026/
LOCATION:なかのZEROホール\, 中野区中野２丁目９−７\, 東京都\, 164-0001\, 日本
ATTACH;FMTTYPE=image/jpeg:https://ro-on.tokyo/wp-content/uploads/9e21513b4579ed65601a054508ec54d6.jpg
GEO:35.704878;139.67181
X-APPLE-STRUCTURED-LOCATION;VALUE=URI;X-ADDRESS=なかのZEROホール 中野区中野２丁目９−７ 東京都 164-0001 日本;X-APPLE-RADIUS=500;X-TITLE=中野区中野２丁目９−７:geo:139.67181,35.704878
END:VEVENT
BEGIN:VEVENT
DTSTART;TZID=Asia/Tokyo:20260531T173000
DTEND;TZID=Asia/Tokyo:20260531T173000
DTSTAMP:20260421T041424
CREATED:20260116T031412Z
LAST-MODIFIED:20260116T031413Z
UID:10000646-1780248600-1780248600@ro-on.tokyo
SUMMARY:Best Friends Forever Concert 2026 辛島美登里＆永井真理子
DESCRIPTION:5/31(日) 17:30 開演（17:00 開場）横浜･関内ホール　大ホール料金（税込）全席指定 ： 9\,000円 \n\n\n\n※未就学児の入場はご遠慮願います。※小中学生割引あり（1\,000円）ご希望の方はRo-Onチケット（TEL047-365-9960）までお電話でお問合せください。
URL:https://ro-on.tokyo/event/best-friends-forever-concert-2026-%e8%be%9b%e5%b3%b6%e7%be%8e%e7%99%bb%e9%87%8c%ef%bc%86%e6%b0%b8%e4%ba%95%e7%9c%9f%e7%90%86%e5%ad%90-2/
LOCATION:横浜・関内ホール\, 中区住吉町4丁目42-1\, 横浜市\, 神奈川県\, 231-0013\, 日本
ATTACH;FMTTYPE=image/jpeg:https://ro-on.tokyo/wp-content/uploads/9cdf1688119d084dfbd51066dc78fa68.jpg
END:VEVENT
BEGIN:VEVENT
DTSTART;TZID=Asia/Tokyo:20260531T180000
DTEND;TZID=Asia/Tokyo:20260531T180000
DTSTAMP:20260421T041424
CREATED:20260106T050352Z
LAST-MODIFIED:20260126T012326Z
UID:10000642-1780250400-1780250400@ro-on.tokyo
SUMMARY:相川七瀬 30th Anniversary LIVE 2026 in 海老名
DESCRIPTION:5/31(日) 18:00 開演（17:30 開場）海老名市文化会館　大ホール料金（税込）全席指定 ： 7\,700円 \n\n\n\n※未就学児の入場はご遠慮願います。※小中学生割引あり（1\,000円）ご希望の方はRo-Onチケット（TEL047-365-9960）までお電話でお問合せください。
URL:https://ro-on.tokyo/event/%e7%9b%b8%e5%b7%9d%e4%b8%83%e7%80%ac-30th-anniversary-live-2026-in-%e6%b5%b7%e8%80%81%e5%90%8d/
LOCATION:海老名市文化会館\, めぐみ町6-1\, 海老名市\, 神奈川県\, 243-0438\, 日本
ATTACH;FMTTYPE=image/jpeg:https://ro-on.tokyo/wp-content/uploads/4b6934b46d1bbb0fb9d1edcd05998ea0.jpg
END:VEVENT
BEGIN:VEVENT
DTSTART;TZID=Asia/Tokyo:20260603T183000
DTEND;TZID=Asia/Tokyo:20260603T183000
DTSTAMP:20260421T041424
CREATED:20260313T080524Z
LAST-MODIFIED:20260313T080525Z
UID:10000677-1780511400-1780511400@ro-on.tokyo
SUMMARY:75周年記念 渡辺貞夫カルテット2026 ～INTO TOMORROW～
DESCRIPTION:6/3(水) 18:30 開演（18:00 開場）たましんRISURUホール（立川市市民会館）大ホール料金（税込）全席指定 ： 8\,500円 \n\n\n\n※6歳以上有料/未就学児童入場不可
URL:https://ro-on.tokyo/event/75%e5%91%a8%e5%b9%b4%e8%a8%98%e5%bf%b5-%e6%b8%a1%e8%be%ba%e8%b2%9e%e5%a4%ab%e3%82%ab%e3%83%ab%e3%83%86%e3%83%83%e3%83%882026-%ef%bd%9einto-tomorrow%ef%bd%9e/
LOCATION:たましんRISURUホール(立川市市民会館)\, 立川市錦町3-3-20\, 東京都\, 190-0022\, 日本
ATTACH;FMTTYPE=image/jpeg:https://ro-on.tokyo/wp-content/uploads/8c9ea92c33b469b6ec4fac49e89e35fc.jpg
GEO:35.6935083;139.4201108
X-APPLE-STRUCTURED-LOCATION;VALUE=URI;X-ADDRESS=たましんRISURUホール(立川市市民会館) 立川市錦町3-3-20 東京都 190-0022 日本;X-APPLE-RADIUS=500;X-TITLE=立川市錦町3-3-20:geo:139.4201108,35.6935083
END:VEVENT
BEGIN:VEVENT
DTSTART;TZID=Asia/Tokyo:20260606T140000
DTEND;TZID=Asia/Tokyo:20260606T140000
DTSTAMP:20260421T041424
CREATED:20260227T071122Z
LAST-MODIFIED:20260227T071243Z
UID:10000664-1780754400-1780754400@ro-on.tokyo
SUMMARY:神田将エレクトーンコンサート スペクタキュラー･クラシック Yuki Kanda Electone Concert Spectacular Classic
DESCRIPTION:6/6(土) 14:00 開演（13:30 開場）亀戸文化センター カメリアホール料金（税込）全席指定 ： 5\,500円 \n\n\n\n※未就学児の入場はご遠慮願います。※小中学生割引あり（1\,000円）ご希望の方はRo-Onチケット（TEL047-365-9960）までお電話でお問合せください。
URL:https://ro-on.tokyo/event/%e7%a5%9e%e7%94%b0%e5%b0%86%e3%82%a8%e3%83%ac%e3%82%af%e3%83%88%e3%83%bc%e3%83%b3%e3%82%b3%e3%83%b3%e3%82%b5%e3%83%bc%e3%83%88-%e3%82%b9%e3%83%9a%e3%82%af%e3%82%bf%e3%82%ad%e3%83%a5%e3%83%a9%e3%83%bc/
LOCATION:江東区亀戸文化センター カメリアホール\, 亀戸２丁目１９−１ カメリアプラザ 3Ｆ\, 江東区\, 東京都\, 136-0071\, 日本
ATTACH;FMTTYPE=image/jpeg:https://ro-on.tokyo/wp-content/uploads/2875c50efb394c46e31802fd796c03b1.jpg
GEO:35.697814607205;139.82454403845
X-APPLE-STRUCTURED-LOCATION;VALUE=URI;X-ADDRESS=江東区亀戸文化センター カメリアホール 亀戸２丁目１９−１ カメリアプラザ 3Ｆ 江東区 東京都 136-0071 日本;X-APPLE-RADIUS=500;X-TITLE=亀戸２丁目１９−１ カメリアプラザ 3Ｆ:geo:139.82454403845,35.697814607205
END:VEVENT
BEGIN:VEVENT
DTSTART;TZID=Asia/Tokyo:20260606T143000
DTEND;TZID=Asia/Tokyo:20260606T143000
DTSTAMP:20260421T041424
CREATED:20260220T060450Z
LAST-MODIFIED:20260220T082725Z
UID:10000660-1780756200-1780756200@ro-on.tokyo
SUMMARY:歌心りえ Sing A Life
DESCRIPTION:6/6(土) 14:30 開演（14:00 開場）あげお富士住建ホール（上尾市文化センター）大ホール料金（税込）全席指定 ： 6\,500円 \n\n\n\n※未就学児の入場はご遠慮願います。※小中学生割引あり（1\,000円）ご希望の方はRo-Onチケット（TEL047-365-9960）までお電話でお問合せください。
URL:https://ro-on.tokyo/event/%e6%ad%8c%e5%bf%83%e3%82%8a%e3%81%88-sing-a-life/
LOCATION:あげお富士住建ホール（上尾市文化センター）\, 上尾市二ツ宮750番地\, 埼玉県\, 362-0017\, 日本
ATTACH;FMTTYPE=image/jpeg:https://ro-on.tokyo/wp-content/uploads/d1031e14c1d4df5875aa55e1996d85e9.jpg
GEO:35.9785814;139.5985742
X-APPLE-STRUCTURED-LOCATION;VALUE=URI;X-ADDRESS=あげお富士住建ホール（上尾市文化センター） 上尾市二ツ宮750番地 埼玉県 362-0017 日本;X-APPLE-RADIUS=500;X-TITLE=上尾市二ツ宮750番地:geo:139.5985742,35.9785814
END:VEVENT
BEGIN:VEVENT
DTSTART;TZID=Asia/Tokyo:20260613T133000
DTEND;TZID=Asia/Tokyo:20260613T133000
DTSTAMP:20260421T041424
CREATED:20260217T021031Z
LAST-MODIFIED:20260217T021032Z
UID:10000659-1781357400-1781357400@ro-on.tokyo
SUMMARY:秋川雅史コンサート2026 in 鎌倉芸術館
DESCRIPTION:6/13(土) 13:30 開演（13:00 開場）鎌倉芸術館　小ホール料金（税込）全席指定 ： 6\,500円 \n\n\n\n※未就学児の入場はご遠慮願います。※小中学生割引あり（1\,000円）ご希望の方はRo-Onチケット（TEL047-365-9960）までお電話でお問合せください。
URL:https://ro-on.tokyo/event/%e7%a7%8b%e5%b7%9d%e9%9b%85%e5%8f%b2%e3%82%b3%e3%83%b3%e3%82%b5%e3%83%bc%e3%83%882026-in-%e9%8e%8c%e5%80%89%e8%8a%b8%e8%a1%93%e9%a4%a8/
LOCATION:鎌倉芸術館\, 鎌倉市大船6-1-2\, 神奈川県\, 247-0056\, 日本
CATEGORIES:スライド画面
ATTACH;FMTTYPE=image/jpeg:https://ro-on.tokyo/wp-content/uploads/95ba13ca0967caf92ccded8763cf3169.jpg
GEO:35.3525259;139.5384572
X-APPLE-STRUCTURED-LOCATION;VALUE=URI;X-ADDRESS=鎌倉芸術館 鎌倉市大船6-1-2 神奈川県 247-0056 日本;X-APPLE-RADIUS=500;X-TITLE=鎌倉市大船6-1-2:geo:139.5384572,35.3525259
END:VEVENT
BEGIN:VEVENT
DTSTART;TZID=Asia/Tokyo:20260613T133000
DTEND;TZID=Asia/Tokyo:20260613T170000
DTSTAMP:20260421T041424
CREATED:20260224T064847Z
LAST-MODIFIED:20260224T064847Z
UID:10000663-1781357400-1781370000@ro-on.tokyo
SUMMARY:社会風刺コント集団 ザ･ニュースペーパーLIVE 2026
DESCRIPTION:6/13(土) 13:30 開演 / 17:00開演（各回30分前 開場）亀戸文化センター カメリアホール料金（税込）全席指定 ： 5\,800円 \n\n\n\n※未就学児の入場はご遠慮願います。※小中学生割引あり（1\,000円）ご希望の方はRo-Onチケット（TEL047-365-9960）までお電話でお問合せください。
URL:https://ro-on.tokyo/event/%e7%a4%be%e4%bc%9a%e9%a2%a8%e5%88%ba%e3%82%b3%e3%83%b3%e3%83%88%e9%9b%86%e5%9b%a3-%e3%82%b6%ef%bd%a5%e3%83%8b%e3%83%a5%e3%83%bc%e3%82%b9%e3%83%9a%e3%83%bc%e3%83%91%e3%83%bclive-2026-3/
LOCATION:江東区亀戸文化センター カメリアホール\, 亀戸２丁目１９−１ カメリアプラザ 3Ｆ\, 江東区\, 東京都\, 136-0071\, 日本
ATTACH;FMTTYPE=image/jpeg:https://ro-on.tokyo/wp-content/uploads/c25728e5aec466b4ea1b3e9544af103a.jpg
GEO:35.697814607205;139.82454403845
X-APPLE-STRUCTURED-LOCATION;VALUE=URI;X-ADDRESS=江東区亀戸文化センター カメリアホール 亀戸２丁目１９−１ カメリアプラザ 3Ｆ 江東区 東京都 136-0071 日本;X-APPLE-RADIUS=500;X-TITLE=亀戸２丁目１９−１ カメリアプラザ 3Ｆ:geo:139.82454403845,35.697814607205
END:VEVENT
BEGIN:VEVENT
DTSTART;TZID=Asia/Tokyo:20260613T140000
DTEND;TZID=Asia/Tokyo:20260613T140000
DTSTAMP:20260421T041424
CREATED:20260305T064042Z
LAST-MODIFIED:20260330T032828Z
UID:10000662-1781359200-1781359200@ro-on.tokyo
SUMMARY:石田組 コンサートツアー2026
DESCRIPTION:6/13 (土) 14:00 開演（13:15 開場）松戸･森のホール21　大ホール料金（税込）全席指定 ： 一般 6\,000円 / 学生席(25歳以下) 2\,500円 \n\n\n\n※未就学児の入場はご遠慮願います。
URL:https://ro-on.tokyo/event/%e7%9f%b3%e7%94%b0%e7%b5%84-%e3%82%b3%e3%83%b3%e3%82%b5%e3%83%bc%e3%83%88%e3%83%84%e3%82%a2%e3%83%bc2026-4/
LOCATION:松戸・森のホール21\, 松戸市千駄堀646-4\, 千葉\, 270-2252\, 日本
ATTACH;FMTTYPE=image/jpeg:https://ro-on.tokyo/wp-content/uploads/2a2c8503ba4b55ca9f662ac21f4e4f7b.jpg
GEO:35.7995794;139.9406874
X-APPLE-STRUCTURED-LOCATION;VALUE=URI;X-ADDRESS=松戸・森のホール21 松戸市千駄堀646-4 千葉 270-2252 日本;X-APPLE-RADIUS=500;X-TITLE=松戸市千駄堀646-4:geo:139.9406874,35.7995794
END:VEVENT
BEGIN:VEVENT
DTSTART;TZID=Asia/Tokyo:20260613T160000
DTEND;TZID=Asia/Tokyo:20260613T160000
DTSTAMP:20260421T041424
CREATED:20260114T013242Z
LAST-MODIFIED:20260114T013243Z
UID:10000651-1781366400-1781366400@ro-on.tokyo
SUMMARY:堀内孝雄コンサート2026 ～遠くで汽笛を聞きながら～
DESCRIPTION:6/13(土) 16:00 開演（15:30 開場）大昭ホール龍ケ崎（龍ケ崎市文化会館）大ホール料金（税込）全席指定 ： 7\,000円 \n\n\n\n※未就学児の入場はご遠慮願います。※小中学生割引あり（1\,000円）ご希望の方はRo-Onチケット（TEL047-365-9960）までお電話でお問合せください。
URL:https://ro-on.tokyo/event/%e5%a0%80%e5%86%85%e5%ad%9d%e9%9b%84%e3%82%b3%e3%83%b3%e3%82%b5%e3%83%bc%e3%83%882026-%ef%bd%9e%e9%81%a0%e3%81%8f%e3%81%a7%e6%b1%bd%e7%ac%9b%e3%82%92%e8%81%9e%e3%81%8d%e3%81%aa%e3%81%8c%e3%82%89-2/
LOCATION:大昭ホール龍ケ崎\, 馴馬町2612番地\, 龍ケ崎市\, 茨城県\, 301-0004\, 日本
ATTACH;FMTTYPE=image/jpeg:https://ro-on.tokyo/wp-content/uploads/7f07878b4dde2acb1863f03d70d3c873.jpg
END:VEVENT
BEGIN:VEVENT
DTSTART;TZID=Asia/Tokyo:20260613T170000
DTEND;TZID=Asia/Tokyo:20260613T170000
DTSTAMP:20260421T041424
CREATED:20260226T040645Z
LAST-MODIFIED:20260226T040645Z
UID:10000669-1781370000-1781370000@ro-on.tokyo
SUMMARY:堺正章 to MAGNETS
DESCRIPTION:6/13(土) 17:00 開演（16:30 開場）相模原市民会館料金（税込）全席指定 ： 8\,000円 \n\n\n\n※当日券料金：8\,500円※小中学生料金：1\,000円ご希望の方はRo-Onチケット（TEL047-365-9960）までお電話でお問合せください。※未就学児の入場はご遠慮願います。
URL:https://ro-on.tokyo/event/%e5%a0%ba%e6%ad%a3%e7%ab%a0-to-magnets/
LOCATION:相模原市民会館\, 相模原市中央区中央3-13-15\, 神奈川\, 252-0239\, 日本
ATTACH;FMTTYPE=image/jpeg:https://ro-on.tokyo/wp-content/uploads/62df5643cf7a9d2cd68c718ea2ff5975.jpg
GEO:35.5705477;139.3691226
X-APPLE-STRUCTURED-LOCATION;VALUE=URI;X-ADDRESS=相模原市民会館 相模原市中央区中央3-13-15 神奈川 252-0239 日本;X-APPLE-RADIUS=500;X-TITLE=相模原市中央区中央3-13-15:geo:139.3691226,35.5705477
END:VEVENT
BEGIN:VEVENT
DTSTART;TZID=Asia/Tokyo:20260613T173000
DTEND;TZID=Asia/Tokyo:20260613T173000
DTSTAMP:20260421T041424
CREATED:20260313T065908Z
LAST-MODIFIED:20260313T065909Z
UID:10000666-1781371800-1781371800@ro-on.tokyo
SUMMARY:岡村孝子 Solo debut 40th Anniversary OKAMURA TAKAKO CONCERT 2026 "T's GARDEN"
DESCRIPTION:6/13(土) 17:30 開演（16:45 開場）府中の森芸術劇場　どりーむホール料金（税込）全席指定 ： 8\,000円 \n\n\n\n※3歳以上はチケットが必要となります。
URL:https://ro-on.tokyo/event/%e5%b2%a1%e6%9d%91%e5%ad%9d%e5%ad%90-solo-debut-40th-anniversary-okamura-takako-concert-2026-ts-garden-2/
LOCATION:府中の森芸術劇場\, 府中の森芸術劇場\, 府中市浅間町１丁目２\, 東京\, 183-0001\, 日本
ATTACH;FMTTYPE=image/jpeg:https://ro-on.tokyo/wp-content/uploads/c2cbd65c670eee2dd3f3c11387f8ab91.jpg
END:VEVENT
BEGIN:VEVENT
DTSTART;TZID=Asia/Tokyo:20260619T163000
DTEND;TZID=Asia/Tokyo:20260619T163000
DTSTAMP:20260421T041424
CREATED:20260206T041911Z
LAST-MODIFIED:20260407T012214Z
UID:10000658-1781886600-1781886600@ro-on.tokyo
SUMMARY:小椋佳 歌紡ぎの会
DESCRIPTION:6/19(金) 16:30 開演（16:00 開場）草加市文化会館 ホール料金（税込）全席指定 ： 6\,600円 \n\n\n\n※未就学児の入場はご遠慮願います。※小中学生割引あり（1\,000円）ご希望の方はRo-Onチケット（TEL047-365-9960）までお電話でお問合せください。
URL:https://ro-on.tokyo/event/%e5%b0%8f%e6%a4%8b%e4%bd%b3-%e6%ad%8c%e7%b4%a1%e3%81%8e%e3%81%ae%e4%bc%9a-2/
LOCATION:草加市文化会館ホール\, 松江1丁目1-5\, 草加市\, 埼玉県\, 340-0013\, 日本
ATTACH;FMTTYPE=image/jpeg:https://ro-on.tokyo/wp-content/uploads/0f9580ed55e004aabb1ae16d0a3e2557.jpg
END:VEVENT
BEGIN:VEVENT
DTSTART;TZID=Asia/Tokyo:20260620T133000
DTEND;TZID=Asia/Tokyo:20260620T133000
DTSTAMP:20260421T041424
CREATED:20260310T025353Z
LAST-MODIFIED:20260310T025354Z
UID:10000672-1781962200-1781962200@ro-on.tokyo
SUMMARY:ベイビーブー コンサート2026 ～昭和･平成･令和？5人で唄うアイドルソング～
DESCRIPTION:6/20(土) 13:30 開演（13:00 開場）RaiBoC Hall（さいたま市民会館おおみや）７F 大ホール料金（税込）全席指定 ： 6\,500円 \n\n\n\n※未就学児の入場はご遠慮願います。※小中学生割引あり（1\,000円）ご希望の方はRo-Onチケット（TEL047-365-9960）までお電話でお問合せください。
URL:https://ro-on.tokyo/event/%e3%83%99%e3%82%a4%e3%83%93%e3%83%bc%e3%83%96%e3%83%bc-%e3%82%b3%e3%83%b3%e3%82%b5%e3%83%bc%e3%83%882026-%ef%bd%9e%e6%98%ad%e5%92%8c%ef%bd%a5%e5%b9%b3%e6%88%90%ef%bd%a5%e4%bb%a4%e5%92%8c%ef%bc%9f5/
LOCATION:RaiBoC Hall（さいたま市民会館おおみや）\, 大宮区大門町2-118 大宮門街4-8F\, さいたま市\, 埼玉県\, 日本
CATEGORIES:スライド画面
ATTACH;FMTTYPE=image/jpeg:https://ro-on.tokyo/wp-content/uploads/1eb32a80966262632d9ff117f907930e.jpg
END:VEVENT
BEGIN:VEVENT
DTSTART;TZID=Asia/Tokyo:20260625T173000
DTEND;TZID=Asia/Tokyo:20260625T173000
DTSTAMP:20260421T041424
CREATED:20260310T025630Z
LAST-MODIFIED:20260319T004250Z
UID:10000668-1782408600-1782408600@ro-on.tokyo
SUMMARY:【完売】財津和夫コンサート2026 with 姫野達也「そして」
DESCRIPTION:6/25(木) 17:30 開演（17:00 開場）府中の森芸術劇場　どりーむホール料金（税込）全席指定 ： 9\,900円 \n\n\n\n※未就学児の入場はご遠慮願います。※小中学生割引あり（1\,000円）ご希望の方はRo-Onチケット（TEL047-365-9960）までお電話でお問合せください。
URL:https://ro-on.tokyo/event/%e8%b2%a1%e6%b4%a5%e5%92%8c%e5%a4%ab%e3%82%b3%e3%83%b3%e3%82%b5%e3%83%bc%e3%83%882026-with-%e5%a7%ab%e9%87%8e%e9%81%94%e4%b9%9f%e3%80%8c%e3%81%9d%e3%81%97%e3%81%a6%e3%80%8d/
LOCATION:府中の森芸術劇場\, 府中の森芸術劇場\, 府中市浅間町１丁目２\, 東京\, 183-0001\, 日本
END:VEVENT
BEGIN:VEVENT
DTSTART;TZID=Asia/Tokyo:20260627T130000
DTEND;TZID=Asia/Tokyo:20260627T160000
DTSTAMP:20260421T041424
CREATED:20260319T015614Z
LAST-MODIFIED:20260319T015614Z
UID:10000673-1782565200-1782576000@ro-on.tokyo
SUMMARY:ウルトラヒーローズ THE LIVE ～オメガ･アーク･ブレーザー 新世代ヒーロー集結～ in 東京都小平
DESCRIPTION:6/27(土) 13:00 / 16:00 開演（各回30分前 開場）ルネこだいら　大ホール料金（税込）全席指定 ： 4\,200円 \n\n\n\n※2歳以下膝上1名まで無料（座席が必要な場合有料）3歳以上はチケットが必要
URL:https://ro-on.tokyo/event/%e3%82%a6%e3%83%ab%e3%83%88%e3%83%a9%e3%83%92%e3%83%bc%e3%83%ad%e3%83%bc%e3%82%ba-the-live-%ef%bd%9e%e3%82%aa%e3%83%a1%e3%82%ac%ef%bd%a5%e3%82%a2%e3%83%bc%e3%82%af%ef%bd%a5%e3%83%96%e3%83%ac%e3%83%bc/
LOCATION:ルネこだいら\, 小平市美園町1-8-5\, 東京\, 187-0041\, 日本
ATTACH;FMTTYPE=image/jpeg:https://ro-on.tokyo/wp-content/uploads/e6fd663dc1acc99f09f6ac7faa91a276.jpg
GEO:35.7349566;139.4874344
X-APPLE-STRUCTURED-LOCATION;VALUE=URI;X-ADDRESS=ルネこだいら 小平市美園町1-8-5 東京 187-0041 日本;X-APPLE-RADIUS=500;X-TITLE=小平市美園町1-8-5:geo:139.4874344,35.7349566
END:VEVENT
BEGIN:VEVENT
DTSTART;TZID=Asia/Tokyo:20260627T133000
DTEND;TZID=Asia/Tokyo:20260627T133000
DTSTAMP:20260421T041424
CREATED:20260310T025458Z
LAST-MODIFIED:20260310T025459Z
UID:10000671-1782567000-1782567000@ro-on.tokyo
SUMMARY:ベイビーブー コンサート2026 ～昭和･平成･令和？5人で唄うアイドルソング～
DESCRIPTION:6/27(土) 13:30 開演（13:00 開場）横浜･関内ホール　大ホール料金（税込）全席指定 ： 6\,500円 \n\n\n\n※未就学児の入場はご遠慮願います。※小中学生割引あり（1\,000円）ご希望の方はRo-Onチケット（TEL047-365-9960）までお電話でお問合せください。
URL:https://ro-on.tokyo/event/%e3%83%99%e3%82%a4%e3%83%93%e3%83%bc%e3%83%96%e3%83%bc-%e3%82%b3%e3%83%b3%e3%82%b5%e3%83%bc%e3%83%882026-%ef%bd%9e%e6%98%ad%e5%92%8c%ef%bd%a5%e5%b9%b3%e6%88%90%ef%bd%a5%e4%bb%a4%e5%92%8c%ef%bc%9f5-2/
LOCATION:横浜・関内ホール\, 中区住吉町4丁目42-1\, 横浜市\, 神奈川県\, 231-0013\, 日本
ATTACH;FMTTYPE=image/jpeg:https://ro-on.tokyo/wp-content/uploads/1eb32a80966262632d9ff117f907930e.jpg
END:VEVENT
BEGIN:VEVENT
DTSTART;TZID=Asia/Tokyo:20260627T170000
DTEND;TZID=Asia/Tokyo:20260627T170000
DTSTAMP:20260421T041424
CREATED:20260122T065007Z
LAST-MODIFIED:20260122T065012Z
UID:10000624-1782579600-1782579600@ro-on.tokyo
SUMMARY:南こうせつ コンサートツアー2026 ～君と僕のうた～
DESCRIPTION:6/27(土) 17:00 開演（16:30 開場）練馬文化センター　大ホール料金（税込）全席指定 ： 8\,000円 \n\n\n\n※未就学児の入場はご遠慮願います。※小中学生割引あり（1\,000円）ご希望の方はRo-Onチケット（TEL047-365-9960）までお電話でお問合せください。
URL:https://ro-on.tokyo/event/%e5%8d%97%e3%81%93%e3%81%86%e3%81%9b%e3%81%a4-%e3%82%b3%e3%83%b3%e3%82%b5%e3%83%bc%e3%83%88%e3%83%84%e3%82%a2%e3%83%bc2026-%ef%bd%9e%e5%90%9b%e3%81%a8%e5%83%95%e3%81%ae%e3%81%86%e3%81%9f%ef%bd%9e-2/
LOCATION:練馬文化センター\, 東京都練馬区練馬1丁目17-37\, 176-0001\, 日本
ATTACH;FMTTYPE=image/jpeg:https://ro-on.tokyo/wp-content/uploads/cda3ecc90a25398f3eca9fccfe716853.jpg
END:VEVENT
BEGIN:VEVENT
DTSTART;TZID=Asia/Tokyo:20260704T153000
DTEND;TZID=Asia/Tokyo:20260704T153000
DTSTAMP:20260421T041424
CREATED:20260310T033341Z
LAST-MODIFIED:20260310T035542Z
UID:10000670-1783179000-1783179000@ro-on.tokyo
SUMMARY:夏川りみ コンサートツアー ❝たびぐくる❞ 2026
DESCRIPTION:7/4(土) 15:30 開演（15:00 開場）八千代市市民会館　大ホール料金（税込）全席指定 ： 一般 7\,000円 / 小中学生 2\,000円 \n\n\n\n※未就学児膝上1名まで無料。但し座席が必要な場合は有料。
URL:https://ro-on.tokyo/event/%e5%a4%8f%e5%b7%9d%e3%82%8a%e3%81%bf-%e3%82%b3%e3%83%b3%e3%82%b5%e3%83%bc%e3%83%88%e3%83%84%e3%82%a2%e3%83%bc-%e2%9d%9d%e3%81%9f%e3%81%b3%e3%81%90%e3%81%8f%e3%82%8b%e2%9d%9e-2026/
LOCATION:八千代市市民会館\, 萱田町728\, 八千代市\, 千葉県\, 276-0044\, 日本
CATEGORIES:スライド画面
ATTACH;FMTTYPE=image/jpeg:https://ro-on.tokyo/wp-content/uploads/1e8f73eaff7dc4e7ca7251097a3151d9.jpg
END:VEVENT
BEGIN:VEVENT
DTSTART;TZID=Asia/Tokyo:20260705T150000
DTEND;TZID=Asia/Tokyo:20260705T150000
DTSTAMP:20260421T041424
CREATED:20260217T021359Z
LAST-MODIFIED:20260217T021400Z
UID:10000661-1783263600-1783263600@ro-on.tokyo
SUMMARY:海援隊 トーク＆ライブ2026
DESCRIPTION:7/5(日) 15:00 開演（14:30 開場）埼玉会館　大ホール料金（税込）全席指定 ： 6\,000円 \n\n\n\n※未就学児の入場はご遠慮願います。※小中学生割引あり（1\,000円）ご希望の方はRo-Onチケット（TEL047-365-9960）までお電話でお問合せください。
URL:https://ro-on.tokyo/event/%e6%b5%b7%e6%8f%b4%e9%9a%8a-%e3%83%88%e3%83%bc%e3%82%af%ef%bc%86%e3%83%a9%e3%82%a4%e3%83%962026-2/
LOCATION:埼玉会館\, 浦和区高砂3丁目1-4\, さいたま市\, 埼玉県\, 330-0063\, 日本
ATTACH;FMTTYPE=image/jpeg:https://ro-on.tokyo/wp-content/uploads/57ebed3ca574069cac70cd5e45bc1b39.jpeg
END:VEVENT
BEGIN:VEVENT
DTSTART;TZID=Asia/Tokyo:20260710T170000
DTEND;TZID=Asia/Tokyo:20260710T170000
DTSTAMP:20260421T041424
CREATED:20260326T035051Z
LAST-MODIFIED:20260330T032842Z
UID:10000676-1783702800-1783702800@ro-on.tokyo
SUMMARY:南こうせつ コンサートツアー2026 ～君と僕のうた～
DESCRIPTION:7/10(金) 17:00 開演（16:30 開場）めぐろパーシモンホール　大ホール料金（税込）全席指定 ： 8\,000円 \n\n\n\n※未就学児の入場はご遠慮願います。※小中学生割引あり（1\,000円）ご希望の方はRo-Onチケット（TEL047-365-9960）までお電話でお問合せください。
URL:https://ro-on.tokyo/event/%e5%8d%97%e3%81%93%e3%81%86%e3%81%9b%e3%81%a4-%e3%82%b3%e3%83%b3%e3%82%b5%e3%83%bc%e3%83%88%e3%83%84%e3%82%a2%e3%83%bc2026-%ef%bd%9e%e5%90%9b%e3%81%a8%e5%83%95%e3%81%ae%e3%81%86%e3%81%9f%ef%bd%9e-3/
LOCATION:めぐろパーシモンホール\, 目黒区八雲1丁目1-1\, 東京都\, 152-0023\, 日本
CATEGORIES:スライド画面
ATTACH;FMTTYPE=image/jpeg:https://ro-on.tokyo/wp-content/uploads/a51ce46f0d72056d7f10e0c2bf4d73bf.jpg
END:VEVENT
BEGIN:VEVENT
DTSTART;TZID=Asia/Tokyo:20260717T180000
DTEND;TZID=Asia/Tokyo:20260717T180000
DTSTAMP:20260421T041424
CREATED:20260316T025340Z
LAST-MODIFIED:20260316T025341Z
UID:10000675-1784311200-1784311200@ro-on.tokyo
SUMMARY:玉城千春ソロライブ「WITH YOU」
DESCRIPTION:7/17(金) 18:00 開演（17:30 開場）横浜･関内ホール　大ホール料金（税込）全席指定 ： 7\,000円 \n\n\n\n※未就学児の入場はご遠慮願います。※小中学生割引あり（1\,000円）ご希望の方はRo-Onチケット（TEL047-365-9960）までお電話でお問合せください。
URL:https://ro-on.tokyo/event/%e7%8e%89%e5%9f%8e%e5%8d%83%e6%98%a5%e3%82%bd%e3%83%ad%e3%83%a9%e3%82%a4%e3%83%96%e3%80%8cwith-you%e3%80%8d/
LOCATION:横浜・関内ホール\, 中区住吉町4丁目42-1\, 横浜市\, 神奈川県\, 231-0013\, 日本
CATEGORIES:スライド画面
ATTACH;FMTTYPE=image/jpeg:https://ro-on.tokyo/wp-content/uploads/29ba7567bdc1e8a2494f3a2e66b3770f.jpg
END:VEVENT
BEGIN:VEVENT
DTSTART;TZID=Asia/Tokyo:20260718T150000
DTEND;TZID=Asia/Tokyo:20260718T150000
DTSTAMP:20260421T041424
CREATED:20260316T034729Z
LAST-MODIFIED:20260316T034930Z
UID:10000679-1784386800-1784386800@ro-on.tokyo
SUMMARY:岡本知高 Concerto del Sopranista 2026
DESCRIPTION:7/18(土) 15:00 開演（14:30 開場）横浜・関内ホール　大ホール料金（税込）全席指定 ： 6\,500円 \n\n\n\n※未就学児の入場はご遠慮願います。※小中学生割引あり（1\,000円）ご希望の方はRo-Onチケット（TEL047-365-9960）までお電話でお問合せください。
URL:https://ro-on.tokyo/event/%e5%b2%a1%e6%9c%ac%e7%9f%a5%e9%ab%98-concerto-del-sopranista-2026/
LOCATION:横浜・関内ホール\, 中区住吉町4丁目42-1\, 横浜市\, 神奈川県\, 231-0013\, 日本
ATTACH;FMTTYPE=image/jpeg:https://ro-on.tokyo/wp-content/uploads/ce1f7744b96075bf68e1ab99fc8d048e.jpg
END:VEVENT
BEGIN:VEVENT
DTSTART;TZID=Asia/Tokyo:20260720T120000
DTEND;TZID=Asia/Tokyo:20260720T160000
DTSTAMP:20260421T041424
CREATED:20260326T074825Z
LAST-MODIFIED:20260330T032856Z
UID:10000681-1784548800-1784563200@ro-on.tokyo
SUMMARY:島津亜矢 40周年記念コンサートツアー2026 ～ありがとう～
DESCRIPTION:7/20(月･祝) 12:00 / 16:00 開演（各回30分前 開場）小田原三の丸ホール　大ホール料金（税込）全席指定 ： 8\,000円 \n\n\n\n※未就学児の入場はご遠慮願います。※小中学生割引あり（1\,000円）ご希望の方はRo-Onチケット（TEL047-365-9960）までお電話でお問合せください。
URL:https://ro-on.tokyo/event/%e5%b3%b6%e6%b4%a5%e4%ba%9c%e7%9f%a2-40%e5%91%a8%e5%b9%b4%e8%a8%98%e5%bf%b5%e3%82%b3%e3%83%b3%e3%82%b5%e3%83%bc%e3%83%88%e3%83%84%e3%82%a2%e3%83%bc2026-%ef%bd%9e%e3%81%82%e3%82%8a%e3%81%8c%e3%81%a8/
LOCATION:小田原三の丸ホール\, 本町1丁目7-50\, 小田原市\, 神奈川県\, 250-0012\, 日本
CATEGORIES:スライド画面
ATTACH;FMTTYPE=image/jpeg:https://ro-on.tokyo/wp-content/uploads/94bbbe1f300ee131e1428fbf76bb0d99.jpg
END:VEVENT
BEGIN:VEVENT
DTSTART;TZID=Asia/Tokyo:20260720T170000
DTEND;TZID=Asia/Tokyo:20260720T170000
DTSTAMP:20260421T041424
CREATED:20260420T030000Z
LAST-MODIFIED:20260413T024129Z
UID:10000685-1784566800-1784566800@ro-on.tokyo
SUMMARY:小椋佳「歌紡ぎの会」
DESCRIPTION:7/20(月･祝) 17:00 開演（16:30 開場）Ｊ:ＣＯＭホール八王子（八王子市民会館）料金（税込）全席指定 ： 6\,600円 \n\n\n\n※未就学児の入場はご遠慮願います。※小中学生割引あり（1\,000円）ご希望の方はRo-Onチケット（TEL047-365-9960）までお電話でお問合せください。
URL:https://ro-on.tokyo/event/%e5%b0%8f%e6%a4%8b%e4%bd%b3%e3%80%8c%e6%ad%8c%e7%b4%a1%e3%81%8e%e3%81%ae%e4%bc%9a%e3%80%8d/
LOCATION:Ｊ:ＣＯＭホール八王子\, 八王子市子安町4-7-1サザンスカイタワー八王子4F\, 東京\, 192-0904\, 日本
ATTACH;FMTTYPE=image/jpeg:https://ro-on.tokyo/wp-content/uploads/0aa16155325f70ef7440b651d65a6a7a.jpg
GEO:35.6546901;139.3374479
X-APPLE-STRUCTURED-LOCATION;VALUE=URI;X-ADDRESS=Ｊ:ＣＯＭホール八王子 八王子市子安町4-7-1サザンスカイタワー八王子4F 東京 192-0904 日本;X-APPLE-RADIUS=500;X-TITLE=八王子市子安町4-7-1サザンスカイタワー八王子4F:geo:139.3374479,35.6546901
END:VEVENT
BEGIN:VEVENT
DTSTART;TZID=Asia/Tokyo:20260722T170000
DTEND;TZID=Asia/Tokyo:20260723T170000
DTSTAMP:20260421T041424
CREATED:20260226T023523Z
LAST-MODIFIED:20260226T023524Z
UID:10000667-1784739600-1784826000@ro-on.tokyo
SUMMARY:シャンソンの祭典 第64回 パリ祭 “フランスかぶれ”ニッポン
DESCRIPTION:7/22(水) 7/23(木)　17:00 開演（16:30 開場）文京シビックホール　大ホール料金（税込）全席指定 ： S席 12\,000円 / A席 8\,000円 / B席 5\,000円 \n\n\n\n※Ro-OnチケットはS席のみ取り扱いとなります。※学生席 1\,000円 (25歳以下・在学中のみ・当日学生証提示)　学生席をご希望の方はジェイステージナビ（TEL03-6672-2421）までお電話でお問合せください。※未就学児の入場はご遠慮願います。
URL:https://ro-on.tokyo/event/%e3%82%b7%e3%83%a3%e3%83%b3%e3%82%bd%e3%83%b3%e3%81%ae%e7%a5%ad%e5%85%b8-%e7%ac%ac64%e5%9b%9e-%e3%83%91%e3%83%aa%e7%a5%ad-%e3%83%95%e3%83%a9%e3%83%b3%e3%82%b9%e3%81%8b%e3%81%b6%e3%82%8c/
LOCATION:文京シビックホール\, 文京区春日1丁目16-21\, 東京都\, 112-0003\, 日本
ATTACH;FMTTYPE=image/jpeg:https://ro-on.tokyo/wp-content/uploads/b9c03e3dc2c18931d5ae87032ec2d220.jpg
END:VEVENT
BEGIN:VEVENT
DTSTART;TZID=Asia/Tokyo:20260725T143000
DTEND;TZID=Asia/Tokyo:20260725T143000
DTSTAMP:20260421T041424
CREATED:20260316T034016Z
LAST-MODIFIED:20260316T034018Z
UID:10000680-1784989800-1784989800@ro-on.tokyo
SUMMARY:フレンドシップライブ～俺たちの青春白書～
DESCRIPTION:7/25(土) 14:30 開演（14:00 開場）かつしかシンフォニーヒルズ　モーツァルトホール料金（税込）全席指定 ： 6\,500円 \n\n\n\n※未就学児の入場はご遠慮願います。※小中学生割引あり（1\,000円）ご希望の方はRo-Onチケット（TEL047-365-9960）までお電話でお問合せください。
URL:https://ro-on.tokyo/event/%e3%83%95%e3%83%ac%e3%83%b3%e3%83%89%e3%82%b7%e3%83%83%e3%83%97%e3%83%a9%e3%82%a4%e3%83%96%ef%bd%9e%e4%bf%ba%e3%81%9f%e3%81%a1%e3%81%ae%e9%9d%92%e6%98%a5%e7%99%bd%e6%9b%b8%ef%bd%9e-2/
LOCATION:かつしかシンフォニーヒルズ\, 葛飾区立石6丁目33-1\, 東京都\, 124-0012\, 日本
ATTACH;FMTTYPE=image/jpeg:https://ro-on.tokyo/wp-content/uploads/edbfddc2ce983a42e5738b6f7e3aac84.jpg
END:VEVENT
BEGIN:VEVENT
DTSTART;TZID=Asia/Tokyo:20260725T170000
DTEND;TZID=Asia/Tokyo:20260725T170000
DTSTAMP:20260421T041424
CREATED:20260228T010000Z
LAST-MODIFIED:20260305T073051Z
UID:10000657-1784998800-1784998800@ro-on.tokyo
SUMMARY:60th anniversary concert tour ザ･ワイルドワンズ お楽しみはこれからだ！想い出の渚の軌跡
DESCRIPTION:7/25(土) 17:00 開演（16:30 開場）埼玉会館　大ホール料金（税込）全席指定 ： 7\,000円 \n\n\n\n※未就学児の入場はご遠慮願います。※小中学生割引あり（1\,000円）ご希望の方はRo-Onチケット（TEL047-365-9960）までお電話でお問合せください。
URL:https://ro-on.tokyo/event/60th-anniversary-concert-tour-%e3%82%b6%ef%bd%a5%e3%83%af%e3%82%a4%e3%83%ab%e3%83%89%e3%83%af%e3%83%b3%e3%82%ba-%e3%81%8a%e6%a5%bd%e3%81%97%e3%81%bf%e3%81%af%e3%81%93%e3%82%8c%e3%81%8b%e3%82%89/
LOCATION:埼玉会館\, 浦和区高砂3丁目1-4\, さいたま市\, 埼玉県\, 330-0063\, 日本
CATEGORIES:スライド画面
ATTACH;FMTTYPE=image/jpeg:https://ro-on.tokyo/wp-content/uploads/cb28c421f8e5123b197ad855db7b6399.jpg
END:VEVENT
BEGIN:VEVENT
DTSTART;TZID=Asia/Tokyo:20260726T153000
DTEND;TZID=Asia/Tokyo:20260726T153000
DTSTAMP:20260421T041424
CREATED:20260319T020125Z
LAST-MODIFIED:20260319T020125Z
UID:10000678-1785079800-1785079800@ro-on.tokyo
SUMMARY:沖縄音楽フェスティバル2026 in 茅ヶ崎
DESCRIPTION:7/26(日) 15:30 開演（15:00 開場）茅ヶ崎市民文化会館　大ホール料金（税込）全席指定 ： 7\,000円 \n\n\n\n※2歳以下入場不可。3歳以上はチケットが必要。※小中学生割引あり（1\,000円）ご希望の方はRo-Onチケット（TEL047-365-9960）までお電話でお問合せください。
URL:https://ro-on.tokyo/event/%e6%b2%96%e7%b8%84%e9%9f%b3%e6%a5%bd%e3%83%95%e3%82%a7%e3%82%b9%e3%83%86%e3%82%a3%e3%83%90%e3%83%ab2026-in-%e8%8c%85%e3%83%b6%e5%b4%8e/
LOCATION:茅ヶ崎市民文化会館\, 茅ヶ崎市茅ヶ崎１丁目１１−１\, 茅ヶ崎市\, 神奈川\, 253-0041\, 日本
ATTACH;FMTTYPE=image/jpeg:https://ro-on.tokyo/wp-content/uploads/705b96314d529e6e6101df71385ac537.jpg
END:VEVENT
BEGIN:VEVENT
DTSTART;TZID=Asia/Tokyo:20260730T140000
DTEND;TZID=Asia/Tokyo:20260730T140000
DTSTAMP:20260421T041424
CREATED:20260227T071838Z
LAST-MODIFIED:20260306T064523Z
UID:10000674-1785420000-1785420000@ro-on.tokyo
SUMMARY:ウクライナ国立バレエ「親子で楽しむ夏休みバレエまつり2026」
DESCRIPTION:7/30(土) 14:00 開演（13:30 開場）パルテノン多摩　大ホール料金（税込）全席指定 ： 一般 7\,500円 / こども(小学生以下) 4\,500円 \n\n\n\n※3歳以下のお子様のご入場はご遠慮ください。※開演時間を過ぎますとご入場をお待ちいただく場合がございます。
URL:https://ro-on.tokyo/event/%e3%82%a6%e3%82%af%e3%83%a9%e3%82%a4%e3%83%8a%e5%9b%bd%e7%ab%8b%e3%83%90%e3%83%ac%e3%82%a8%e3%80%8c%e8%a6%aa%e5%ad%90%e3%81%a7%e6%a5%bd%e3%81%97%e3%82%80%e5%a4%8f%e4%bc%91%e3%81%bf%e3%83%90%e3%83%ac/
LOCATION:パルテノン多摩\, 多摩市落合2丁目35\, 206-0033\, 日本
ATTACH;FMTTYPE=image/jpeg:https://ro-on.tokyo/wp-content/uploads/ddb18739ffceecf59ac95358a0bada65.jpg
END:VEVENT
END:VCALENDAR