BEGIN:VCALENDAR
VERSION:2.0
PRODID:-//東京労音 - ECPv6.15.20//NONSGML v1.0//EN
CALSCALE:GREGORIAN
METHOD:PUBLISH
X-WR-CALNAME:東京労音
X-ORIGINAL-URL:https://ro-on.tokyo
X-WR-CALDESC:東京労音 のイベント
REFRESH-INTERVAL;VALUE=DURATION:PT1H
X-Robots-Tag:noindex
X-PUBLISHED-TTL:PT1H
BEGIN:VTIMEZONE
TZID:Asia/Tokyo
BEGIN:STANDARD
TZOFFSETFROM:+0900
TZOFFSETTO:+0900
TZNAME:JST
DTSTART:20250101T000000
END:STANDARD
END:VTIMEZONE
BEGIN:VEVENT
DTSTART;TZID=Asia/Tokyo:20260520T140000
DTEND;TZID=Asia/Tokyo:20260520T140000
DTSTAMP:20260421T040949
CREATED:20260126T013047Z
LAST-MODIFIED:20260126T013048Z
UID:10000656-1779285600-1779285600@ro-on.tokyo
SUMMARY:菅原洋一 春のコンサート ～93才の私からあなたへ～
DESCRIPTION:5/20(水) 14:00 開演（13:30 開場）練馬文化センター　小ホール料金（税込）全席指定 ： 7\,000円 \n\n\n\n※未就学児の入場はご遠慮願います。※小中学生割引あり（1\,000円）ご希望の方はRo-Onチケット（TEL047-365-9960）までお電話でお問合せください。
URL:https://ro-on.tokyo/event/%e8%8f%85%e5%8e%9f%e6%b4%8b%e4%b8%80-%e6%98%a5%e3%81%ae%e3%82%b3%e3%83%b3%e3%82%b5%e3%83%bc%e3%83%88-%ef%bd%9e93%e6%89%8d%e3%81%ae%e7%a7%81%e3%81%8b%e3%82%89%e3%81%82%e3%81%aa%e3%81%9f%e3%81%b8/
LOCATION:練馬文化センター\, 東京都練馬区練馬1丁目17-37\, 176-0001\, 日本
ATTACH;FMTTYPE=image/jpeg:https://ro-on.tokyo/wp-content/uploads/2349ef376782d217969884c64f4310a6.jpg
END:VEVENT
BEGIN:VEVENT
DTSTART;TZID=Asia/Tokyo:20260516T173000
DTEND;TZID=Asia/Tokyo:20260516T173000
DTSTAMP:20260421T040949
CREATED:20260106T070036Z
LAST-MODIFIED:20260106T070038Z
UID:10000645-1778952600-1778952600@ro-on.tokyo
SUMMARY:Best Friends Forever Concert 2026 辛島美登里＆永井真理子
DESCRIPTION:5/16(土) 17:30 開演（17:00 開場）ルネこだいら　大ホール料金（税込）全席指定 ： 9\,000円 \n\n\n\n※未就学児の入場はご遠慮願います。※小中学生割引あり（1\,000円）ご希望の方はRo-Onチケット（TEL047-365-9960）までお電話でお問合せください。
URL:https://ro-on.tokyo/event/best-friends-forever-concert-2026-%e8%be%9b%e5%b3%b6%e7%be%8e%e7%99%bb%e9%87%8c%ef%bc%86%e6%b0%b8%e4%ba%95%e7%9c%9f%e7%90%86%e5%ad%90/
LOCATION:ルネこだいら\, 小平市美園町1-8-5\, 東京\, 187-0041\, 日本
CATEGORIES:スライド画面
ATTACH;FMTTYPE=image/jpeg:https://ro-on.tokyo/wp-content/uploads/efcc2bf56edbdefc6ced80c4543f1fa8.jpg
GEO:35.7349566;139.4874344
X-APPLE-STRUCTURED-LOCATION;VALUE=URI;X-ADDRESS=ルネこだいら 小平市美園町1-8-5 東京 187-0041 日本;X-APPLE-RADIUS=500;X-TITLE=小平市美園町1-8-5:geo:139.4874344,35.7349566
END:VEVENT
BEGIN:VEVENT
DTSTART;TZID=Asia/Tokyo:20260516T140000
DTEND;TZID=Asia/Tokyo:20260516T140000
DTSTAMP:20260421T040949
CREATED:20260203T040152Z
LAST-MODIFIED:20260203T040153Z
UID:10000648-1778940000-1778940000@ro-on.tokyo
SUMMARY:林家たけ平落語会 皐月恒例･カメリア版(ばーじょん) ～タブレット純を迎えて～
DESCRIPTION:5/16(土) 14:00 開演（13:30 開場）亀戸文化センター カメリアホール料金（税込）全席指定 ： 3\,300円 \n\n\n\n※未就学児の入場はご遠慮願います。※小中学生割引あり（1\,000円）ご希望の方はRo-Onチケット（TEL047-365-9960）までお電話でお問合せください。
URL:https://ro-on.tokyo/event/%e6%9e%97%e5%ae%b6%e3%81%9f%e3%81%91%e5%b9%b3%e8%90%bd%e8%aa%9e%e4%bc%9a-%e7%9a%90%e6%9c%88%e6%81%92%e4%be%8b%ef%bd%a5%e3%82%ab%e3%83%a1%e3%83%aa%e3%82%a2%e7%89%88%e3%81%b0%e3%83%bc%e3%81%98%e3%82%87/
LOCATION:江東区亀戸文化センター カメリアホール\, 亀戸２丁目１９−１ カメリアプラザ 3Ｆ\, 江東区\, 東京都\, 136-0071\, 日本
ATTACH;FMTTYPE=image/jpeg:https://ro-on.tokyo/wp-content/uploads/2d47d021a5c18afad37346f29f4c87fe.jpg
GEO:35.697814607205;139.82454403845
X-APPLE-STRUCTURED-LOCATION;VALUE=URI;X-ADDRESS=江東区亀戸文化センター カメリアホール 亀戸２丁目１９−１ カメリアプラザ 3Ｆ 江東区 東京都 136-0071 日本;X-APPLE-RADIUS=500;X-TITLE=亀戸２丁目１９−１ カメリアプラザ 3Ｆ:geo:139.82454403845,35.697814607205
END:VEVENT
BEGIN:VEVENT
DTSTART;TZID=Asia/Tokyo:20260516T113000
DTEND;TZID=Asia/Tokyo:20260516T153000
DTSTAMP:20260421T040949
CREATED:20260203T035906Z
LAST-MODIFIED:20260203T035906Z
UID:10000643-1778931000-1778945400@ro-on.tokyo
SUMMARY:島津亜矢 40周年記念コンサートツアー2026 ～ありがとう～
DESCRIPTION:5/16(土) 11:30 / 15:30 開演（各回30分前 開場）武蔵野市民文化会館　大ホール料金（税込）全席指定 ： 8\,000円 \n\n\n\n※未就学児の入場はご遠慮願います。※小中学生割引あり（1\,000円）ご希望の方はRo-Onチケット（TEL047-365-9960）までお電話でお問合せください。
URL:https://ro-on.tokyo/event/%e5%b3%b6%e6%b4%a5%e4%ba%9c%e7%9f%a2-40%e5%91%a8%e5%b9%b4%e8%a8%98%e5%bf%b5%e3%82%b3%e3%83%b3%e3%82%b5%e3%83%bc%e3%83%88%e3%83%84%e3%82%a2%e3%83%bc2026-%ef%bd%9e%e3%81%82%e3%82%8a%e3%81%8c%e3%81%a8-11/
LOCATION:武蔵野市民文化会館\, 中町3丁目9-11\, 武蔵野市\, 東京都\, 180-0006\, 日本
ATTACH;FMTTYPE=image/jpeg:https://ro-on.tokyo/wp-content/uploads/a5014c9dfd84edd1a25ce1b9a7679091.jpg
END:VEVENT
BEGIN:VEVENT
DTSTART;TZID=Asia/Tokyo:20260509T180000
DTEND;TZID=Asia/Tokyo:20260509T180000
DTSTAMP:20260421T040949
CREATED:20260123T080130Z
LAST-MODIFIED:20260123T080131Z
UID:10000641-1778349600-1778349600@ro-on.tokyo
SUMMARY:相川七瀬 30th Anniversary LIVE 2026 in 東松山
DESCRIPTION:5/9(土) 18:00 開演（17:30 開場）東松山市民文化センター ホール料金（税込）全席指定 ： 7\,700円 \n\n\n\n※未就学児の入場はご遠慮願います。※小中学生割引あり（1\,000円）ご希望の方はRo-Onチケット（TEL047-365-9960）までお電話でお問合せください。
URL:https://ro-on.tokyo/event/%e7%9b%b8%e5%b7%9d%e4%b8%83%e7%80%ac-30th-anniversary-live-2026-in-%e6%9d%b1%e6%9d%be%e5%b1%b1/
LOCATION:東松山市民文化センター\, 六軒町5-2\, 東松山市\, 埼玉県\, 355-0024\, 日本
CATEGORIES:スライド画面
ATTACH;FMTTYPE=image/jpeg:https://ro-on.tokyo/wp-content/uploads/5810e3156a052e7823e76b71653ff715.jpg
END:VEVENT
BEGIN:VEVENT
DTSTART;TZID=Asia/Tokyo:20260509T170000
DTEND;TZID=Asia/Tokyo:20260509T170000
DTSTAMP:20260421T040949
CREATED:20260113T034237Z
LAST-MODIFIED:20260324T071150Z
UID:10000649-1778346000-1778346000@ro-on.tokyo
SUMMARY:【完売】古内東子 ー今宵、鎌倉で恋を歌う
DESCRIPTION:5/9(土) 17:00 開演（16:30 開場）鎌倉芸術館　小ホール料金（税込）全席指定 ： 6\,500円 \n\n\n\n※未就学児の入場はご遠慮願います。※小中学生割引あり（1\,000円）ご希望の方はRo-Onチケット（TEL047-365-9960）までお電話でお問合せください。
URL:https://ro-on.tokyo/event/%e5%8f%a4%e5%86%85%e6%9d%b1%e5%ad%90-%e3%83%bc%e4%bb%8a%e5%ae%b5%e3%80%81%e9%8e%8c%e5%80%89%e3%81%a7%e6%81%8b%e3%82%92%e6%ad%8c%e3%81%86/
LOCATION:鎌倉芸術館\, 鎌倉市大船6-1-2\, 神奈川県\, 247-0056\, 日本
ATTACH;FMTTYPE=image/jpeg:https://ro-on.tokyo/wp-content/uploads/56032ccc8ae0a0e9b78590888b31225b.jpg
GEO:35.3525259;139.5384572
X-APPLE-STRUCTURED-LOCATION;VALUE=URI;X-ADDRESS=鎌倉芸術館 鎌倉市大船6-1-2 神奈川県 247-0056 日本;X-APPLE-RADIUS=500;X-TITLE=鎌倉市大船6-1-2:geo:139.5384572,35.3525259
END:VEVENT
BEGIN:VEVENT
DTSTART;TZID=Asia/Tokyo:20260506T140000
DTEND;TZID=Asia/Tokyo:20260506T140000
DTSTAMP:20260421T040950
CREATED:20260130T075901Z
LAST-MODIFIED:20260305T064220Z
UID:10000640-1778076000-1778076000@ro-on.tokyo
SUMMARY:石田組 コンサートツアー2026
DESCRIPTION:5/6 (水･祝) 14:00 開演（13:15 開場）高崎芸術劇場　大劇場料金（税込）全席指定 ： 一般 6\,000円 / 学生席(25歳以下) 2\,500円 \n\n\n\n※未就学児の入場はご遠慮願います。
URL:https://ro-on.tokyo/event/%e7%9f%b3%e7%94%b0%e7%b5%84-%e3%82%b3%e3%83%b3%e3%82%b5%e3%83%bc%e3%83%88%e3%83%84%e3%82%a2%e3%83%bc2026-3/
LOCATION:高崎芸術劇場\, 栄町9-1\, 高崎市\, 群馬県\, 370-0841\, 日本
ATTACH;FMTTYPE=image/jpeg:https://ro-on.tokyo/wp-content/uploads/12e675062440236679f47d37ea71391d.jpg
END:VEVENT
BEGIN:VEVENT
DTSTART;TZID=Asia/Tokyo:20260426T153000
DTEND;TZID=Asia/Tokyo:20260426T153000
DTSTAMP:20260421T040950
CREATED:20260106T034953Z
LAST-MODIFIED:20260106T034953Z
UID:10000629-1777217400-1777217400@ro-on.tokyo
SUMMARY:荒馬座創立60周年記念企画「萌ゆる春 心むすぶ季(とき)」
DESCRIPTION:4/26(日) 15:30 開演（15:00 開場）亀戸文化センター・カメリアホール料金（税込）全席指定 ： 4\,000円 \n\n\n\n※2歳以下膝上1名まで無料（座席が必要な場合有料）3歳以上はチケットが必要※小中学生割引あり（1\,000円）ご希望の方はRo-Onチケット（TEL047-365-9960）までお電話でお問合せください。
URL:https://ro-on.tokyo/event/%e8%8d%92%e9%a6%ac%e5%ba%a7%e5%89%b5%e7%ab%8b60%e5%91%a8%e5%b9%b4%e8%a8%98%e5%bf%b5%e4%bc%81%e7%94%bb%e3%80%8c%e8%90%8c%e3%82%86%e3%82%8b%e6%98%a5-%e5%bf%83%e3%82%80%e3%81%99%e3%81%b6%e5%ad%a3/
LOCATION:江東区亀戸文化センター カメリアホール\, 亀戸２丁目１９−１ カメリアプラザ 3Ｆ\, 江東区\, 東京都\, 136-0071\, 日本
ATTACH;FMTTYPE=image/jpeg:https://ro-on.tokyo/wp-content/uploads/d92949a595c1a74244795353555e35f7.jpg
GEO:35.697814607205;139.82454403845
X-APPLE-STRUCTURED-LOCATION;VALUE=URI;X-ADDRESS=江東区亀戸文化センター カメリアホール 亀戸２丁目１９−１ カメリアプラザ 3Ｆ 江東区 東京都 136-0071 日本;X-APPLE-RADIUS=500;X-TITLE=亀戸２丁目１９−１ カメリアプラザ 3Ｆ:geo:139.82454403845,35.697814607205
END:VEVENT
BEGIN:VEVENT
DTSTART;TZID=Asia/Tokyo:20260425T163000
DTEND;TZID=Asia/Tokyo:20260425T163000
DTSTAMP:20260421T040950
CREATED:20251223T023918Z
LAST-MODIFIED:20260407T054644Z
UID:10000637-1777134600-1777134600@ro-on.tokyo
SUMMARY:【完売】八神純子 キミの街へ 2026 ～Share the moment with you～
DESCRIPTION:4/25(土) 16:30 開演（16:00 開場）調布市グリーンホール　大ホール料金（税込）全席指定 ： 7\,000円 \n\n\n\n※未就学児の入場はご遠慮願います。
URL:https://ro-on.tokyo/event/%e5%85%ab%e7%a5%9e%e7%b4%94%e5%ad%90-%e3%82%ad%e3%83%9f%e3%81%ae%e8%a1%97%e3%81%b8-2026-%ef%bd%9eshare-the-moment-with-you%ef%bd%9e-2/
LOCATION:調布市グリーンホール\, 小島町2丁目47-1\, 調布市\, 東京都\, 182-0026\, 日本
ATTACH;FMTTYPE=image/jpeg:https://ro-on.tokyo/wp-content/uploads/2ca6e95e8acfe4a622688ed7520d2b30.jpg
END:VEVENT
BEGIN:VEVENT
DTSTART;TZID=Asia/Tokyo:20260424T190000
DTEND;TZID=Asia/Tokyo:20260424T190000
DTSTAMP:20260421T040950
CREATED:20260106T021759Z
LAST-MODIFIED:20260106T021801Z
UID:10000628-1777057200-1777057200@ro-on.tokyo
SUMMARY:ティアラ JAZZ LIVE 2026 後藤雅広 白石幸司 スインギン･クラリネット･デュオ Part.39
DESCRIPTION:4/24(金) 19:00 開演（18:30 開場）亀戸文化センター・カメリアホール料金（税込）全席指定 ： 4\,700円 \n\n\n\n※未就学児の入場はご遠慮願います。※小中学生割引あり（1\,000円）ご希望の方はRo-Onチケット（TEL047-365-9960）までお電話でお問合せください。
URL:https://ro-on.tokyo/event/%e3%83%86%e3%82%a3%e3%82%a2%e3%83%a9-jazz-live-2026-%e5%be%8c%e8%97%a4%e9%9b%85%e5%ba%83-%e7%99%bd%e7%9f%b3%e5%b9%b8%e5%8f%b8-%e3%82%b9%e3%82%a4%e3%83%b3%e3%82%ae%e3%83%b3%ef%bd%a5%e3%82%af%e3%83%a9/
LOCATION:江東区亀戸文化センター カメリアホール\, 亀戸２丁目１９−１ カメリアプラザ 3Ｆ\, 江東区\, 東京都\, 136-0071\, 日本
ATTACH;FMTTYPE=image/jpeg:https://ro-on.tokyo/wp-content/uploads/5a61a67a2135bce01ad5f4feba6597da.jpg
GEO:35.697814607205;139.82454403845
X-APPLE-STRUCTURED-LOCATION;VALUE=URI;X-ADDRESS=江東区亀戸文化センター カメリアホール 亀戸２丁目１９−１ カメリアプラザ 3Ｆ 江東区 東京都 136-0071 日本;X-APPLE-RADIUS=500;X-TITLE=亀戸２丁目１９−１ カメリアプラザ 3Ｆ:geo:139.82454403845,35.697814607205
END:VEVENT
BEGIN:VEVENT
DTSTART;TZID=Asia/Tokyo:20260423T190000
DTEND;TZID=Asia/Tokyo:20260423T190000
DTSTAMP:20260421T040950
CREATED:20260116T030133Z
LAST-MODIFIED:20260116T030134Z
UID:10000633-1776970800-1776970800@ro-on.tokyo
SUMMARY:中村太地 無伴奏ヴァイオリンリサイタル
DESCRIPTION:4/23(木) 19:00 開演（18:30 開場）東京文化会館　小ホール料金（税込）全席指定 ： 5\,000円 \n\n\n\n※未就学児の入場はご遠慮願います。※小中学生割引あり（1\,000円）ご希望の方はRo-Onチケット（TEL047-365-9960）までお電話でお問合せください。
URL:https://ro-on.tokyo/event/%e4%b8%ad%e6%9d%91%e5%a4%aa%e5%9c%b0-%e7%84%a1%e4%bc%b4%e5%a5%8f%e3%83%b4%e3%82%a1%e3%82%a4%e3%82%aa%e3%83%aa%e3%83%b3%e3%83%aa%e3%82%b5%e3%82%a4%e3%82%bf%e3%83%ab/
LOCATION:東京文化会館\, 台東区上野公園5-45\, 東京都\, 110-0007\, 日本
ATTACH;FMTTYPE=image/jpeg:https://ro-on.tokyo/wp-content/uploads/66158b15c585c0d9653f36cb39b9901a.jpg
GEO:35.7143723;139.7754155
X-APPLE-STRUCTURED-LOCATION;VALUE=URI;X-ADDRESS=東京文化会館 台東区上野公園5-45 東京都 110-0007 日本;X-APPLE-RADIUS=500;X-TITLE=台東区上野公園5-45:geo:139.7754155,35.7143723
END:VEVENT
BEGIN:VEVENT
DTSTART;TZID=Asia/Tokyo:20260422T183000
DTEND;TZID=Asia/Tokyo:20260422T183000
DTSTAMP:20260421T040950
CREATED:20260113T012933Z
LAST-MODIFIED:20260226T005029Z
UID:10000639-1776882600-1776882600@ro-on.tokyo
SUMMARY:【完売】清水ミチコのHAPPY PARADISE
DESCRIPTION:4/22(水) 18:30 開演（18:00 開場）たましんRISURUホール　大ホール料金（税込）全席指定 ： 7\,200円 \n\n\n\n※未就学児入場不可
URL:https://ro-on.tokyo/event/%e6%b8%85%e6%b0%b4%e3%83%9f%e3%83%81%e3%82%b3%e3%81%aehappy-paradise-2/
LOCATION:たましんRISURUホール(立川市市民会館)\, 立川市錦町3-3-20\, 東京都\, 190-0022\, 日本
ATTACH;FMTTYPE=image/jpeg:https://ro-on.tokyo/wp-content/uploads/4d746da342e0364727607e3092a9807b.jpg
GEO:35.6935083;139.4201108
X-APPLE-STRUCTURED-LOCATION;VALUE=URI;X-ADDRESS=たましんRISURUホール(立川市市民会館) 立川市錦町3-3-20 東京都 190-0022 日本;X-APPLE-RADIUS=500;X-TITLE=立川市錦町3-3-20:geo:139.4201108,35.6935083
END:VEVENT
BEGIN:VEVENT
DTSTART;TZID=Asia/Tokyo:20260418T170000
DTEND;TZID=Asia/Tokyo:20260418T170000
DTSTAMP:20260421T040950
CREATED:20260108T021449Z
LAST-MODIFIED:20260330T032728Z
UID:10000623-1776531600-1776531600@ro-on.tokyo
SUMMARY:南こうせつ コンサートツアー2026 ～君と僕のうた～
DESCRIPTION:4/18(土) 17:00 開演（16:30 開場）大昭ホール龍ケ崎（龍ケ崎市文化会館）大ホール料金（税込）全席指定 ： 8\,000円 \n\n\n\n※未就学児の入場はご遠慮願います。※小中学生割引あり（1\,000円）ご希望の方はRo-Onチケット（TEL047-365-9960）までお電話でお問合せください。
URL:https://ro-on.tokyo/event/%e5%8d%97%e3%81%93%e3%81%86%e3%81%9b%e3%81%a4-%e3%82%b3%e3%83%b3%e3%82%b5%e3%83%bc%e3%83%88%e3%83%84%e3%82%a2%e3%83%bc2026-%ef%bd%9e%e5%90%9b%e3%81%a8%e5%83%95%e3%81%ae%e3%81%86%e3%81%9f%ef%bd%9e/
LOCATION:大昭ホール龍ケ崎\, 馴馬町2612番地\, 龍ケ崎市\, 茨城県\, 301-0004\, 日本
ATTACH;FMTTYPE=image/jpeg:https://ro-on.tokyo/wp-content/uploads/def25af48aa75abf4a3bef8f7d231a36.jpg
END:VEVENT
BEGIN:VEVENT
DTSTART;TZID=Asia/Tokyo:20260418T170000
DTEND;TZID=Asia/Tokyo:20260418T170000
DTSTAMP:20260421T040950
CREATED:20251125T013656Z
LAST-MODIFIED:20260407T063610Z
UID:10000619-1776531600-1776531600@ro-on.tokyo
SUMMARY:【完売】T-BOLAN LAST LIVE TOUR 2025-2026 終章 SING THE BEST HIT JOURNEY 47
DESCRIPTION:4/18(土) 17:00 開演（16:00 開場）大田区民ホール・アプリコ　大ホール料金（税込）全席指定 ： 8\,800円 \n\n\n\n※4歳以上有料。3歳以下膝上可。(ただし席が必要な場合は有料)【学生割引・キッズ割引】・対象：高校生以下・当日3\,000円を返金いたします【学生割引・キッズ割引チケットの注意事項】※公演当日、会場での返金となります。※年齢が確認できる身分証明書をご持参ください。学生証・生徒手帳でも問題ございません。お忘れになられた場合には、いかなる理由がございましても返金の対象となりません。予めご了承ください。
URL:https://ro-on.tokyo/event/t-bolan-last-live-tour-2025-2026-%e7%b5%82%e7%ab%a0-sing-the-best-hit-journey-47-3/
LOCATION:大田区民ホール・アプリコ\, 大田区蒲田5丁目37-3\, 東京都\, 144-0052\, 日本
ATTACH;FMTTYPE=image/jpeg:https://ro-on.tokyo/wp-content/uploads/c3b0d4405ea7e7bd111f249d71de2a4d.jpg
END:VEVENT
BEGIN:VEVENT
DTSTART;TZID=Asia/Tokyo:20260411T180000
DTEND;TZID=Asia/Tokyo:20260411T180000
DTSTAMP:20260421T040950
CREATED:20260105T023410Z
LAST-MODIFIED:20260105T023413Z
UID:10000627-1775930400-1775930400@ro-on.tokyo
SUMMARY:Viva La Musica 2026 神谷満実子SPRING CONCERT PART18 ～ファンタジア～
DESCRIPTION:4/11(土) 18:00 開演（17:30 開場）豊洲シビックセンターホール料金（税込）全席指定 ： 4\,500円 \n\n\n\n※未就学児の入場はご遠慮願います。※小中学生割引あり（1\,000円）ご希望の方はRo-Onチケット（TEL047-365-9960）までお電話でお問合せください。
URL:https://ro-on.tokyo/event/viva-la-musica-2026-%e7%a5%9e%e8%b0%b7%e6%ba%80%e5%ae%9f%e5%ad%90spring-concert-part18-%ef%bd%9e%e3%83%95%e3%82%a1%e3%83%b3%e3%82%bf%e3%82%b8%e3%82%a2%ef%bd%9e/
LOCATION:豊洲シビックセンターホール\, 豊洲2-2-18\, 江東区\, 東京都\, 135-0061\, 日本
ATTACH;FMTTYPE=image/jpeg:https://ro-on.tokyo/wp-content/uploads/2f2dd2baf1ef89f4692a0ae8df229f84.jpg
GEO:35.6542839;139.7953256
X-APPLE-STRUCTURED-LOCATION;VALUE=URI;X-ADDRESS=豊洲シビックセンターホール 豊洲2-2-18 江東区 東京都 135-0061 日本;X-APPLE-RADIUS=500;X-TITLE=豊洲2-2-18:geo:139.7953256,35.6542839
END:VEVENT
BEGIN:VEVENT
DTSTART;TZID=Asia/Tokyo:20260411T173000
DTEND;TZID=Asia/Tokyo:20260411T173000
DTSTAMP:20260421T040950
CREATED:20251219T025452Z
LAST-MODIFIED:20260330T032715Z
UID:10000630-1775928600-1775928600@ro-on.tokyo
SUMMARY:稲垣潤一CONCERT 2026
DESCRIPTION:4/11(土) 17:30 開演（17:00 開場）ウェスタ川越　大ホール料金（税込）全席指定 ： 8\,000円 \n\n\n\n※未就学児の入場はご遠慮願います。※小中学生割引あり（1\,000円）ご希望の方はRo-Onチケット（TEL047-365-9960）までお電話でお問合せください。
URL:https://ro-on.tokyo/event/%e7%a8%b2%e5%9e%a3%e6%bd%a4%e4%b8%80concert-2026/
LOCATION:ウェスタ川越\, 新宿町1丁目17-17\, 川越市\, 埼玉県\, 350-1124\, 日本
ATTACH;FMTTYPE=image/jpeg:https://ro-on.tokyo/wp-content/uploads/e90bccef567138ee355621701acea6a9.jpg
END:VEVENT
BEGIN:VEVENT
DTSTART;TZID=Asia/Tokyo:20260411T170000
DTEND;TZID=Asia/Tokyo:20260411T170000
DTSTAMP:20260421T040950
CREATED:20251223T024056Z
LAST-MODIFIED:20260407T054856Z
UID:10000638-1775926800-1775926800@ro-on.tokyo
SUMMARY:【完売】八神純子 キミの街へ 2026 ～Share the moment with you～
DESCRIPTION:4/11(土) 17:00 開演（16:30 開場）横浜・関内ホール　大ホール料金（税込）全席指定 ： 7\,000円 \n\n\n\n※未就学児の入場はご遠慮願います。※小中学生割引あり（1\,000円）ご希望の方はRo-Onチケット（TEL047-365-9960）までお電話でお問合せください。
URL:https://ro-on.tokyo/event/%e5%85%ab%e7%a5%9e%e7%b4%94%e5%ad%90-%e3%82%ad%e3%83%9f%e3%81%ae%e8%a1%97%e3%81%b8-2026-%ef%bd%9eshare-the-moment-with-you%ef%bd%9e-3/
LOCATION:横浜・関内ホール\, 中区住吉町4丁目42-1\, 横浜市\, 神奈川県\, 231-0013\, 日本
ATTACH;FMTTYPE=image/jpeg:https://ro-on.tokyo/wp-content/uploads/5368d8fb549946d20f5b512847a6f262.jpg
END:VEVENT
END:VCALENDAR