BEGIN:VCALENDAR
VERSION:2.0
PRODID:-//東京労音 - ECPv6.15.20//NONSGML v1.0//EN
CALSCALE:GREGORIAN
METHOD:PUBLISH
X-ORIGINAL-URL:https://ro-on.tokyo
X-WR-CALDESC:東京労音 のイベント
REFRESH-INTERVAL;VALUE=DURATION:PT1H
X-Robots-Tag:noindex
X-PUBLISHED-TTL:PT1H
BEGIN:VTIMEZONE
TZID:Asia/Tokyo
BEGIN:STANDARD
TZOFFSETFROM:+0900
TZOFFSETTO:+0900
TZNAME:JST
DTSTART:20250101T000000
END:STANDARD
END:VTIMEZONE
BEGIN:VEVENT
DTSTART;TZID=Asia/Tokyo:20260606T140000
DTEND;TZID=Asia/Tokyo:20260606T140000
DTSTAMP:20260421T005557
CREATED:20260227T071122Z
LAST-MODIFIED:20260227T071243Z
UID:10000664-1780754400-1780754400@ro-on.tokyo
SUMMARY:神田将エレクトーンコンサート スペクタキュラー･クラシック Yuki Kanda Electone Concert Spectacular Classic
DESCRIPTION:6/6(土) 14:00 開演（13:30 開場）亀戸文化センター カメリアホール料金（税込）全席指定 ： 5\,500円 \n\n\n\n※未就学児の入場はご遠慮願います。※小中学生割引あり（1\,000円）ご希望の方はRo-Onチケット（TEL047-365-9960）までお電話でお問合せください。
URL:https://ro-on.tokyo/event/%e7%a5%9e%e7%94%b0%e5%b0%86%e3%82%a8%e3%83%ac%e3%82%af%e3%83%88%e3%83%bc%e3%83%b3%e3%82%b3%e3%83%b3%e3%82%b5%e3%83%bc%e3%83%88-%e3%82%b9%e3%83%9a%e3%82%af%e3%82%bf%e3%82%ad%e3%83%a5%e3%83%a9%e3%83%bc/
LOCATION:江東区亀戸文化センター カメリアホール\, 亀戸２丁目１９−１ カメリアプラザ 3Ｆ\, 江東区\, 東京都\, 136-0071\, 日本
ATTACH;FMTTYPE=image/jpeg:https://ro-on.tokyo/wp-content/uploads/2875c50efb394c46e31802fd796c03b1.jpg
GEO:35.697814607205;139.82454403845
X-APPLE-STRUCTURED-LOCATION;VALUE=URI;X-ADDRESS=江東区亀戸文化センター カメリアホール 亀戸２丁目１９−１ カメリアプラザ 3Ｆ 江東区 東京都 136-0071 日本;X-APPLE-RADIUS=500;X-TITLE=亀戸２丁目１９−１ カメリアプラザ 3Ｆ:geo:139.82454403845,35.697814607205
END:VEVENT
BEGIN:VEVENT
DTSTART;TZID=Asia/Tokyo:20260606T143000
DTEND;TZID=Asia/Tokyo:20260606T143000
DTSTAMP:20260421T005557
CREATED:20260220T060450Z
LAST-MODIFIED:20260220T082725Z
UID:10000660-1780756200-1780756200@ro-on.tokyo
SUMMARY:歌心りえ Sing A Life
DESCRIPTION:6/6(土) 14:30 開演（14:00 開場）あげお富士住建ホール（上尾市文化センター）大ホール料金（税込）全席指定 ： 6\,500円 \n\n\n\n※未就学児の入場はご遠慮願います。※小中学生割引あり（1\,000円）ご希望の方はRo-Onチケット（TEL047-365-9960）までお電話でお問合せください。
URL:https://ro-on.tokyo/event/%e6%ad%8c%e5%bf%83%e3%82%8a%e3%81%88-sing-a-life/
LOCATION:あげお富士住建ホール（上尾市文化センター）\, 上尾市二ツ宮750番地\, 埼玉県\, 362-0017\, 日本
ATTACH;FMTTYPE=image/jpeg:https://ro-on.tokyo/wp-content/uploads/d1031e14c1d4df5875aa55e1996d85e9.jpg
GEO:35.9785814;139.5985742
X-APPLE-STRUCTURED-LOCATION;VALUE=URI;X-ADDRESS=あげお富士住建ホール（上尾市文化センター） 上尾市二ツ宮750番地 埼玉県 362-0017 日本;X-APPLE-RADIUS=500;X-TITLE=上尾市二ツ宮750番地:geo:139.5985742,35.9785814
END:VEVENT
END:VCALENDAR