BEGIN:VCALENDAR
VERSION:2.0
PRODID:-//東京労音 - ECPv6.15.20//NONSGML v1.0//EN
CALSCALE:GREGORIAN
METHOD:PUBLISH
X-ORIGINAL-URL:https://ro-on.tokyo
X-WR-CALDESC:東京労音 のイベント
REFRESH-INTERVAL;VALUE=DURATION:PT1H
X-Robots-Tag:noindex
X-PUBLISHED-TTL:PT1H
BEGIN:VTIMEZONE
TZID:Asia/Tokyo
BEGIN:STANDARD
TZOFFSETFROM:+0900
TZOFFSETTO:+0900
TZNAME:JST
DTSTART:20250101T000000
END:STANDARD
END:VTIMEZONE
BEGIN:VEVENT
DTSTART;TZID=Asia/Tokyo:20260705T150000
DTEND;TZID=Asia/Tokyo:20260705T150000
DTSTAMP:20260421T034054
CREATED:20260217T021359Z
LAST-MODIFIED:20260217T021400Z
UID:10000661-1783263600-1783263600@ro-on.tokyo
SUMMARY:海援隊 トーク＆ライブ2026
DESCRIPTION:7/5(日) 15:00 開演（14:30 開場）埼玉会館　大ホール料金（税込）全席指定 ： 6\,000円 \n\n\n\n※未就学児の入場はご遠慮願います。※小中学生割引あり（1\,000円）ご希望の方はRo-Onチケット（TEL047-365-9960）までお電話でお問合せください。
URL:https://ro-on.tokyo/event/%e6%b5%b7%e6%8f%b4%e9%9a%8a-%e3%83%88%e3%83%bc%e3%82%af%ef%bc%86%e3%83%a9%e3%82%a4%e3%83%962026-2/
LOCATION:埼玉会館\, 浦和区高砂3丁目1-4\, さいたま市\, 埼玉県\, 330-0063\, 日本
ATTACH;FMTTYPE=image/jpeg:https://ro-on.tokyo/wp-content/uploads/57ebed3ca574069cac70cd5e45bc1b39.jpeg
END:VEVENT
END:VCALENDAR