BEGIN:VCALENDAR
VERSION:2.0
PRODID:-//東京労音 - ECPv6.15.20//NONSGML v1.0//EN
CALSCALE:GREGORIAN
METHOD:PUBLISH
X-WR-CALNAME:東京労音
X-ORIGINAL-URL:https://ro-on.tokyo
X-WR-CALDESC:東京労音 のイベント
REFRESH-INTERVAL;VALUE=DURATION:PT1H
X-Robots-Tag:noindex
X-PUBLISHED-TTL:PT1H
BEGIN:VTIMEZONE
TZID:Asia/Tokyo
BEGIN:STANDARD
TZOFFSETFROM:+0900
TZOFFSETTO:+0900
TZNAME:JST
DTSTART:20250101T000000
END:STANDARD
END:VTIMEZONE
BEGIN:VEVENT
DTSTART;TZID=Asia/Tokyo:20260717T180000
DTEND;TZID=Asia/Tokyo:20260717T180000
DTSTAMP:20260421T033929
CREATED:20260316T025340Z
LAST-MODIFIED:20260316T025341Z
UID:10000675-1784311200-1784311200@ro-on.tokyo
SUMMARY:玉城千春ソロライブ「WITH YOU」
DESCRIPTION:7/17(金) 18:00 開演（17:30 開場）横浜･関内ホール　大ホール料金（税込）全席指定 ： 7\,000円 \n\n\n\n※未就学児の入場はご遠慮願います。※小中学生割引あり（1\,000円）ご希望の方はRo-Onチケット（TEL047-365-9960）までお電話でお問合せください。
URL:https://ro-on.tokyo/event/%e7%8e%89%e5%9f%8e%e5%8d%83%e6%98%a5%e3%82%bd%e3%83%ad%e3%83%a9%e3%82%a4%e3%83%96%e3%80%8cwith-you%e3%80%8d/
LOCATION:横浜・関内ホール\, 中区住吉町4丁目42-1\, 横浜市\, 神奈川県\, 231-0013\, 日本
CATEGORIES:スライド画面
ATTACH;FMTTYPE=image/jpeg:https://ro-on.tokyo/wp-content/uploads/29ba7567bdc1e8a2494f3a2e66b3770f.jpg
END:VEVENT
END:VCALENDAR