BEGIN:VCALENDAR
VERSION:2.0
PRODID:-//東京労音 - ECPv6.15.20//NONSGML v1.0//EN
CALSCALE:GREGORIAN
METHOD:PUBLISH
X-ORIGINAL-URL:https://ro-on.tokyo
X-WR-CALDESC:東京労音 のイベント
REFRESH-INTERVAL;VALUE=DURATION:PT1H
X-Robots-Tag:noindex
X-PUBLISHED-TTL:PT1H
BEGIN:VTIMEZONE
TZID:Asia/Tokyo
BEGIN:STANDARD
TZOFFSETFROM:+0900
TZOFFSETTO:+0900
TZNAME:JST
DTSTART:20250101T000000
END:STANDARD
END:VTIMEZONE
BEGIN:VEVENT
DTSTART;TZID=Asia/Tokyo:20260725T143000
DTEND;TZID=Asia/Tokyo:20260725T143000
DTSTAMP:20260421T034109
CREATED:20260316T034016Z
LAST-MODIFIED:20260316T034018Z
UID:10000680-1784989800-1784989800@ro-on.tokyo
SUMMARY:フレンドシップライブ～俺たちの青春白書～
DESCRIPTION:7/25(土) 14:30 開演（14:00 開場）かつしかシンフォニーヒルズ　モーツァルトホール料金（税込）全席指定 ： 6\,500円 \n\n\n\n※未就学児の入場はご遠慮願います。※小中学生割引あり（1\,000円）ご希望の方はRo-Onチケット（TEL047-365-9960）までお電話でお問合せください。
URL:https://ro-on.tokyo/event/%e3%83%95%e3%83%ac%e3%83%b3%e3%83%89%e3%82%b7%e3%83%83%e3%83%97%e3%83%a9%e3%82%a4%e3%83%96%ef%bd%9e%e4%bf%ba%e3%81%9f%e3%81%a1%e3%81%ae%e9%9d%92%e6%98%a5%e7%99%bd%e6%9b%b8%ef%bd%9e-2/
LOCATION:かつしかシンフォニーヒルズ\, 葛飾区立石6丁目33-1\, 東京都\, 124-0012\, 日本
ATTACH;FMTTYPE=image/jpeg:https://ro-on.tokyo/wp-content/uploads/edbfddc2ce983a42e5738b6f7e3aac84.jpg
END:VEVENT
BEGIN:VEVENT
DTSTART;TZID=Asia/Tokyo:20260725T170000
DTEND;TZID=Asia/Tokyo:20260725T170000
DTSTAMP:20260421T034109
CREATED:20260228T010000Z
LAST-MODIFIED:20260305T073051Z
UID:10000657-1784998800-1784998800@ro-on.tokyo
SUMMARY:60th anniversary concert tour ザ･ワイルドワンズ お楽しみはこれからだ！想い出の渚の軌跡
DESCRIPTION:7/25(土) 17:00 開演（16:30 開場）埼玉会館　大ホール料金（税込）全席指定 ： 7\,000円 \n\n\n\n※未就学児の入場はご遠慮願います。※小中学生割引あり（1\,000円）ご希望の方はRo-Onチケット（TEL047-365-9960）までお電話でお問合せください。
URL:https://ro-on.tokyo/event/60th-anniversary-concert-tour-%e3%82%b6%ef%bd%a5%e3%83%af%e3%82%a4%e3%83%ab%e3%83%89%e3%83%af%e3%83%b3%e3%82%ba-%e3%81%8a%e6%a5%bd%e3%81%97%e3%81%bf%e3%81%af%e3%81%93%e3%82%8c%e3%81%8b%e3%82%89/
LOCATION:埼玉会館\, 浦和区高砂3丁目1-4\, さいたま市\, 埼玉県\, 330-0063\, 日本
CATEGORIES:スライド画面
ATTACH;FMTTYPE=image/jpeg:https://ro-on.tokyo/wp-content/uploads/cb28c421f8e5123b197ad855db7b6399.jpg
END:VEVENT
END:VCALENDAR