BEGIN:VCALENDAR
VERSION:2.0
PRODID:-//東京労音 - ECPv6.15.20//NONSGML v1.0//EN
CALSCALE:GREGORIAN
METHOD:PUBLISH
X-ORIGINAL-URL:https://ro-on.tokyo
X-WR-CALDESC:東京労音 のイベント
REFRESH-INTERVAL;VALUE=DURATION:PT1H
X-Robots-Tag:noindex
X-PUBLISHED-TTL:PT1H
BEGIN:VTIMEZONE
TZID:Asia/Tokyo
BEGIN:STANDARD
TZOFFSETFROM:+0900
TZOFFSETTO:+0900
TZNAME:JST
DTSTART:20250101T000000
END:STANDARD
END:VTIMEZONE
BEGIN:VEVENT
DTSTART;TZID=Asia/Tokyo:20260801T173000
DTEND;TZID=Asia/Tokyo:20260801T173000
DTSTAMP:20260421T033623
CREATED:20260406T004443Z
LAST-MODIFIED:20260406T004444Z
UID:10000682-1785605400-1785605400@ro-on.tokyo
SUMMARY:岡村孝子 Solo debut 40th Anniversary OKAMURA TAKAKO CONCERT 2026 "T's GARDEN"
DESCRIPTION:8/1(土) 17:30 開演（16:45 開場）川口リリア・フカガワみらいホール (メインホール)料金（税込）全席指定 ： 8\,000円 \n\n\n\n※3歳以上はチケットが必要となります。
URL:https://ro-on.tokyo/event/%e5%b2%a1%e6%9d%91%e5%ad%9d%e5%ad%90-solo-debut-40th-anniversary-okamura-takako-concert-2026-ts-garden-3/
LOCATION:川口リリア\, 川口3-1-1\, 川口市\, 埼玉県\, 332-0015\, 日本
CATEGORIES:スライド画面
ATTACH;FMTTYPE=image/jpeg:https://ro-on.tokyo/wp-content/uploads/2a8d72a5ebafd05ec0e7d1f277df55a6.jpeg
GEO:35.8009372;139.7167417
X-APPLE-STRUCTURED-LOCATION;VALUE=URI;X-ADDRESS=川口リリア 川口3-1-1 川口市 埼玉県 332-0015 日本;X-APPLE-RADIUS=500;X-TITLE=川口3-1-1:geo:139.7167417,35.8009372
END:VEVENT
END:VCALENDAR