BEGIN:VCALENDAR
VERSION:2.0
PRODID:-//東京労音 - ECPv6.15.20//NONSGML v1.0//EN
CALSCALE:GREGORIAN
METHOD:PUBLISH
X-WR-CALNAME:東京労音
X-ORIGINAL-URL:https://ro-on.tokyo
X-WR-CALDESC:東京労音 のイベント
REFRESH-INTERVAL;VALUE=DURATION:PT1H
X-Robots-Tag:noindex
X-PUBLISHED-TTL:PT1H
BEGIN:VTIMEZONE
TZID:Asia/Tokyo
BEGIN:STANDARD
TZOFFSETFROM:+0900
TZOFFSETTO:+0900
TZNAME:JST
DTSTART:20250101T000000
END:STANDARD
END:VTIMEZONE
BEGIN:VEVENT
DTSTART;TZID=Asia/Tokyo:20260829T150000
DTEND;TZID=Asia/Tokyo:20260829T150000
DTSTAMP:20260421T051720
CREATED:20260420T014558Z
LAST-MODIFIED:20260420T014559Z
UID:10000688-1788015600-1788015600@ro-on.tokyo
SUMMARY:岡本知高 リサイタル2026
DESCRIPTION:8/29(土) 15:00 開演（14:15 開場）狛江エコルマホール料金（税込）全席指定 ： 5\,000円 \n\n\n\n※未就学児の入場はご遠慮願います。※小中学生割引あり（1\,000円）ご希望の方はRo-Onチケット（TEL047-365-9960）までお電話でお問合せください。
URL:https://ro-on.tokyo/event/%e5%b2%a1%e6%9c%ac%e7%9f%a5%e9%ab%98-%e3%83%aa%e3%82%b5%e3%82%a4%e3%82%bf%e3%83%ab2026/
LOCATION:狛江エコルマホール\, 元和泉1-2-1\, 狛江市\, 東京都\, 201-0013\, 日本
CATEGORIES:スライド画面
ATTACH;FMTTYPE=image/jpeg:https://ro-on.tokyo/wp-content/uploads/aca2d5dcad0d5b6e4df10ff1a74bff18.jpg
GEO:35.633232;139.578003
X-APPLE-STRUCTURED-LOCATION;VALUE=URI;X-ADDRESS=狛江エコルマホール 元和泉1-2-1 狛江市 東京都 201-0013 日本;X-APPLE-RADIUS=500;X-TITLE=元和泉1-2-1:geo:139.578003,35.633232
END:VEVENT
END:VCALENDAR